View In:
ArcGIS JavaScript
ArcGIS Online Map Viewer
ArcGIS Earth
Service Description: PSP/WAPSPFloodplainConditionOriginal
Name: PSP/WAPSPFloodplainConditionOriginal
Description:
Single Fused Map Cache: false
Extent:
XMin: -1.3765716468327438E7
YMin: 5883564.943598912
XMax: -1.3475061468327438E7
YMax: 6277619.943598912
Spatial Reference: 102100
(3857)
Initial Extent:
XMin: -1.3765716468327438E7
YMin: 5883564.943598912
XMax: -1.3475061468327438E7
YMax: 6277619.943598912
Spatial Reference: 102100
(3857)
Full Extent:
XMin: -1.3765716468327438E7
YMin: 5883564.943598912
XMax: -1.3475061468327438E7
YMax: 6277619.943598912
Spatial Reference: 102100
(3857)
Pixel Size X: 5.0
Pixel Size Y: 5.0
Band Count: 1
Pixel Type: S8
RasterFunction Infos: {"rasterFunctionInfos": [{
"name": "None",
"description": "",
"help": ""
}]}
Mensuration Capabilities: Basic
Inspection Capabilities:
Has Histograms: true
Has Colormap: false
Has Multi Dimensions : false
Rendering Rule:
Min Scale: 0
Max Scale: 0
Copyright Text:
Service Data Type: esriImageServiceDataTypeThematic
Min Values: 1
Max Values: 68
Mean Values: 48.60333837522204
Standard Deviation Values: 14.461236605520536
Object ID Field:
Fields:
None
Default Mosaic Method: Center
Allowed Mosaic Methods:
SortField:
SortValue: null
Mosaic Operator: First
Default Compression Quality: 75
Default Resampling Method: Bilinear
Max Record Count: null
Max Image Height: 4100
Max Image Width: 15000
Max Download Image Count: null
Max Mosaic Image Count: null
Allow Raster Function: true
Allow Copy: true
Allow Analysis: true
Allow Compute TiePoints: false
Supports Statistics: false
Supports Advanced Queries: false
Use StandardizedQueries: true
Raster Type Infos:
Name: Raster Dataset
Description: Supports all ArcGIS Raster Datasets
Help:
Has Raster Attribute Table: true
Edit Fields Info: null
Ownership Based AccessControl For Rasters: null
Child Resources:
Info
Raster Attribute Table
Histograms
Statistics
Key Properties
Legend
Raster Function Infos
Supported Operations:
Export Image
Identify
Measure
Compute Histograms
Compute Statistics Histograms
Get Samples
Compute Class Statistics
Query Boundary
Compute Pixel Location
Compute Angles
Validate
Project